BEGIN:VCALENDAR
VERSION:2.0
PRODID:-//Seaview Tavern Woolgoolga - ECPv6.15.20//NONSGML v1.0//EN
CALSCALE:GREGORIAN
METHOD:PUBLISH
X-WR-CALNAME:Seaview Tavern Woolgoolga
X-ORIGINAL-URL:https://www.seaviewtavern.com.au
X-WR-CALDESC:Events for Seaview Tavern Woolgoolga
REFRESH-INTERVAL;VALUE=DURATION:PT1H
X-Robots-Tag:noindex
X-PUBLISHED-TTL:PT1H
BEGIN:VTIMEZONE
TZID:Australia/Sydney
BEGIN:STANDARD
TZOFFSETFROM:+1100
TZOFFSETTO:+1000
TZNAME:AEST
DTSTART:20240406T160000
END:STANDARD
BEGIN:DAYLIGHT
TZOFFSETFROM:+1000
TZOFFSETTO:+1100
TZNAME:AEDT
DTSTART:20241005T160000
END:DAYLIGHT
BEGIN:STANDARD
TZOFFSETFROM:+1100
TZOFFSETTO:+1000
TZNAME:AEST
DTSTART:20250405T160000
END:STANDARD
BEGIN:DAYLIGHT
TZOFFSETFROM:+1000
TZOFFSETTO:+1100
TZNAME:AEDT
DTSTART:20251004T160000
END:DAYLIGHT
BEGIN:STANDARD
TZOFFSETFROM:+1100
TZOFFSETTO:+1000
TZNAME:AEST
DTSTART:20260404T160000
END:STANDARD
BEGIN:DAYLIGHT
TZOFFSETFROM:+1000
TZOFFSETTO:+1100
TZNAME:AEDT
DTSTART:20261003T160000
END:DAYLIGHT
END:VTIMEZONE
BEGIN:VEVENT
DTSTART;TZID=Australia/Sydney:20250330T133000
DTEND;TZID=Australia/Sydney:20250330T133000
DTSTAMP:20260421T185739
CREATED:20231209T212435Z
LAST-MODIFIED:20250131T061826Z
UID:22247-1743341400-1743341400@www.seaviewtavern.com.au
SUMMARY:Steve Bennett
DESCRIPTION:Steve has been singing and playing guitar since he was young\, surrounded by music and jam sessions in the lounge room. Learning the basics from his dad and moving on to learning songs and developing his own style\, which led him to writing his own songs and starting family band Ghost Road in 1992. Steve’s bag of tunes is very eclectic\, he is a true story-teller and his music makes you want to sing and dance. He keeps the rhythm grooves tight and can bend a tasty solo. Steve has done session work as a rhythm guitarist for touring bands\, performs regularly with his band Ghost Road along with duo’s with brother Beau as ‘The Bennett Bros’.
URL:https://www.seaviewtavern.com.au/event/steve-bennett/
LOCATION:The Seaview Tavern\, 51 River Street\, Woolgoolga\, NSW\, 2456\, Australia
ATTACH;FMTTYPE=image/jpeg:https://www.seaviewtavern.com.au/wp-content/uploads/2023/12/Steve-Bennet-performs-live-at-the-Seaview-Tavern-Woolgoolga.jpg
END:VEVENT
END:VCALENDAR