BEGIN:VCALENDAR
VERSION:2.0
PRODID:-//Seaview Tavern Woolgoolga - ECPv6.15.20//NONSGML v1.0//EN
CALSCALE:GREGORIAN
METHOD:PUBLISH
X-WR-CALNAME:Seaview Tavern Woolgoolga
X-ORIGINAL-URL:https://www.seaviewtavern.com.au
X-WR-CALDESC:Events for Seaview Tavern Woolgoolga
REFRESH-INTERVAL;VALUE=DURATION:PT1H
X-Robots-Tag:noindex
X-PUBLISHED-TTL:PT1H
BEGIN:VTIMEZONE
TZID:Australia/Sydney
BEGIN:STANDARD
TZOFFSETFROM:+1100
TZOFFSETTO:+1000
TZNAME:AEST
DTSTART:20240406T160000
END:STANDARD
BEGIN:DAYLIGHT
TZOFFSETFROM:+1000
TZOFFSETTO:+1100
TZNAME:AEDT
DTSTART:20241005T160000
END:DAYLIGHT
BEGIN:STANDARD
TZOFFSETFROM:+1100
TZOFFSETTO:+1000
TZNAME:AEST
DTSTART:20250405T160000
END:STANDARD
BEGIN:DAYLIGHT
TZOFFSETFROM:+1000
TZOFFSETTO:+1100
TZNAME:AEDT
DTSTART:20251004T160000
END:DAYLIGHT
BEGIN:STANDARD
TZOFFSETFROM:+1100
TZOFFSETTO:+1000
TZNAME:AEST
DTSTART:20260404T160000
END:STANDARD
BEGIN:DAYLIGHT
TZOFFSETFROM:+1000
TZOFFSETTO:+1100
TZNAME:AEDT
DTSTART:20261003T160000
END:DAYLIGHT
END:VTIMEZONE
BEGIN:VEVENT
DTSTART;TZID=Australia/Sydney:20250712T173000
DTEND;TZID=Australia/Sydney:20250712T193000
DTSTAMP:20260420T183133
CREATED:20250523T042849Z
LAST-MODIFIED:20250523T042921Z
UID:25703-1752341400-1752348600@www.seaviewtavern.com.au
SUMMARY:Kids Disco & Karaoke
DESCRIPTION:Let’s Party! Kids Disco and Karaoke from 5:30pm. Hosted by Bedazzled by Rhi.
URL:https://www.seaviewtavern.com.au/event/kids-disco-july-2025/
LOCATION:The Seaview Tavern\, 51 River Street\, Woolgoolga\, NSW\, 2456\, Australia
CATEGORIES:Kids
ATTACH;FMTTYPE=image/jpeg:https://www.seaviewtavern.com.au/wp-content/uploads/2025/05/Kids-Disco-at-the-Seaview-Tavern-Saturday-July-12.jpg
END:VEVENT
END:VCALENDAR