BEGIN:VCALENDAR
VERSION:2.0
PRODID:-//Seaview Tavern Woolgoolga - ECPv6.15.20//NONSGML v1.0//EN
CALSCALE:GREGORIAN
METHOD:PUBLISH
X-WR-CALNAME:Seaview Tavern Woolgoolga
X-ORIGINAL-URL:https://www.seaviewtavern.com.au
X-WR-CALDESC:Events for Seaview Tavern Woolgoolga
REFRESH-INTERVAL;VALUE=DURATION:PT1H
X-Robots-Tag:noindex
X-PUBLISHED-TTL:PT1H
BEGIN:VTIMEZONE
TZID:Australia/Sydney
BEGIN:STANDARD
TZOFFSETFROM:+1100
TZOFFSETTO:+1000
TZNAME:AEST
DTSTART:20240406T160000
END:STANDARD
BEGIN:DAYLIGHT
TZOFFSETFROM:+1000
TZOFFSETTO:+1100
TZNAME:AEDT
DTSTART:20241005T160000
END:DAYLIGHT
BEGIN:STANDARD
TZOFFSETFROM:+1100
TZOFFSETTO:+1000
TZNAME:AEST
DTSTART:20250405T160000
END:STANDARD
BEGIN:DAYLIGHT
TZOFFSETFROM:+1000
TZOFFSETTO:+1100
TZNAME:AEDT
DTSTART:20251004T160000
END:DAYLIGHT
BEGIN:STANDARD
TZOFFSETFROM:+1100
TZOFFSETTO:+1000
TZNAME:AEST
DTSTART:20260404T160000
END:STANDARD
BEGIN:DAYLIGHT
TZOFFSETFROM:+1000
TZOFFSETTO:+1100
TZNAME:AEDT
DTSTART:20261003T160000
END:DAYLIGHT
END:VTIMEZONE
BEGIN:VEVENT
DTSTART;TZID=Australia/Sydney:20251018T203000
DTEND;TZID=Australia/Sydney:20251018T233000
DTSTAMP:20260421T190521
CREATED:20240603T041553Z
LAST-MODIFIED:20250901T214321Z
UID:23467-1760819400-1760830200@www.seaviewtavern.com.au
SUMMARY:DJ Salty
DESCRIPTION:My name is Ethan Sultana. My nickname is Salty hence the stage name Dj Salty. I have had a passion for music since the age of ten and have been DJing for about 5 years. I am currently studying to be a high school teacher\, and enjoy entertaining and DJing on the side. I am enthusiastic and friendly\, and always open to song requests!
URL:https://www.seaviewtavern.com.au/event/dj-salty/
LOCATION:The Seaview Tavern\, 51 River Street\, Woolgoolga\, NSW\, 2456\, Australia
ATTACH;FMTTYPE=image/jpeg:https://www.seaviewtavern.com.au/wp-content/uploads/2024/06/Dj-Salty-at-the-Seaview-Tavern-Woolgoolga-for-Pure-Dance-Night.jpeg
END:VEVENT
END:VCALENDAR