BEGIN:VCALENDAR
VERSION:2.0
PRODID:-//Seaview Tavern Woolgoolga - ECPv6.15.20//NONSGML v1.0//EN
CALSCALE:GREGORIAN
METHOD:PUBLISH
X-WR-CALNAME:Seaview Tavern Woolgoolga
X-ORIGINAL-URL:https://www.seaviewtavern.com.au
X-WR-CALDESC:Events for Seaview Tavern Woolgoolga
REFRESH-INTERVAL;VALUE=DURATION:PT1H
X-Robots-Tag:noindex
X-PUBLISHED-TTL:PT1H
BEGIN:VTIMEZONE
TZID:Australia/Sydney
BEGIN:STANDARD
TZOFFSETFROM:+1100
TZOFFSETTO:+1000
TZNAME:AEST
DTSTART:20230401T160000
END:STANDARD
BEGIN:DAYLIGHT
TZOFFSETFROM:+1000
TZOFFSETTO:+1100
TZNAME:AEDT
DTSTART:20230930T160000
END:DAYLIGHT
BEGIN:STANDARD
TZOFFSETFROM:+1100
TZOFFSETTO:+1000
TZNAME:AEST
DTSTART:20240406T160000
END:STANDARD
BEGIN:DAYLIGHT
TZOFFSETFROM:+1000
TZOFFSETTO:+1100
TZNAME:AEDT
DTSTART:20241005T160000
END:DAYLIGHT
BEGIN:STANDARD
TZOFFSETFROM:+1100
TZOFFSETTO:+1000
TZNAME:AEST
DTSTART:20250405T160000
END:STANDARD
BEGIN:DAYLIGHT
TZOFFSETFROM:+1000
TZOFFSETTO:+1100
TZNAME:AEDT
DTSTART:20251004T160000
END:DAYLIGHT
END:VTIMEZONE
BEGIN:VEVENT
DTSTART;TZID=Australia/Sydney:20241108T203000
DTEND;TZID=Australia/Sydney:20241108T203000
DTSTAMP:20260421T192435
CREATED:20230526T035522Z
LAST-MODIFIED:20241003T000703Z
UID:21022-1731097800-1731097800@www.seaviewtavern.com.au
SUMMARY:Blues Showdown
DESCRIPTION:Blues Showdown is back! \nThis special event is celebrating the Chart topping success of Dillion James and Nathan Beretta. Both artists have managed to reach No.1 on the Australian Blues And Root Charts for 2024\, with Dillion Jame’s release “ Heavy Key” and Nathan Beretta’s release “ Love Taxman”. These two well respected musicians will be joining forces to put on a full night of Blues funk and New Orleans grooves. \nThis is going to be one hell of a party save to date! \nDillion James won the 2010 BASEQ blues performer of the year award. Either with his own band\, or as a session musician\, Dillion has tickled the ivories on many of the biggest stages in Australian blues music. He has played at Byron Bluesfest\, Blues on Broadbeach\, Woodford Festival\, Mitchell Creek Rock & Blues Festival and many more. Over the last twenty years of gigging on the festival and blues circuit\, Dillion has re-birthed an energetic sound that encapsulates the tone of an earlier era. His self-taught keyboard technique binds melody and rhythm together\, and like a real blues-man\, has paid his dues performing and perfecting his craft on the road and at the late night gigs. \nNathan Beretta\, a luminary in the Australian blues scene. With fifteen years experience of performing Festival stages\, bars and clubs\, Beretta is regarded as one of Australia’s top blues guitar slingers. Not only does Nathan deliver the blues with authenticity with his guitar\, he is also equipped with true powerhouse vocals range. Nathan Beretta is a chart topping artist with two records hitting No.1 on the Australian Blues and Roots Charts. Nathan’s journey into the music industry began with his first band Blue Eyes Cry. With Blue Eyes Cry’s debut album holding top of charts for 3 months and winning multiple awards. Since\, Nathan Beretta has released two Albums with both Hitting No.1 On the Australian Blues And Root Charts.
URL:https://www.seaviewtavern.com.au/event/blues-showdown/
LOCATION:The Seaview Tavern\, 51 River Street\, Woolgoolga\, NSW\, 2456\, Australia
ATTACH;FMTTYPE=image/jpeg:https://www.seaviewtavern.com.au/wp-content/uploads/2023/05/Blues-Showdown-presents-Dillion-James-with-Nathan-Beretta.jpg
END:VEVENT
END:VCALENDAR